BEGIN:VCALENDAR
VERSION:2.0
PRODID:-//My Community Diary//iCal Event//EN
CALSCALE:GREGORIAN
METHOD:PUBLISH
BEGIN:VEVENT
UID:dc6a8320-0b6d-4ee0-a3dc-8ff7ed73479b
DTSTAMP:20260424T170837Z
DTSTART:20210916T140000Z
DTEND:20210916T180000Z
SUMMARY:Bermagui Growers and Makers Market
DESCRIPTION:Discover the taste of Bermagui! Come and meet friendly local growers and makers at the weekly market. There is lots of farm-fresh produce\, ready-to-heat and ready-to-eat meals\, drinks and unique arts and crafts.\n\nThis friendly market kicks off when the bell rings at 3.30pm on Thursdays and trades until 5.30pm. You can join in the fun in any weather (thankfully we live in a beautiful place where it’s mostly sunny!).\n\nTheir market runs from October to April. Check out their calendar to see when we’ll be there\, and like us on Facebook to receive market updates\, foodie tips and special deals.
LOCATION:\, Corner Lamont and Tuross Streets\, Bermagui\, NSW 2546\, NSW\, 2546
RRULE:FREQ=DAILY;INTERVAL=1;UNTIL=20240426T000000Z
END:VEVENT
END:VCALENDAR
