BEGIN:VCALENDAR
VERSION:2.0
PRODID:-//My Community Diary//iCal Event//EN
CALSCALE:GREGORIAN
METHOD:PUBLISH
BEGIN:VEVENT
UID:19394704-f55b-4453-9244-9a5fa6bbbed9
DTSTAMP:20260424T164402Z
DTSTART:20240519T000000Z
DTEND:20240519T235959Z
SUMMARY:Batlow CiderFest
DESCRIPTION:Batlow CiderFest is a colourful party celebrating the end of the apple harvest and the best boutique ciders from around Australia and those brewed locally.\n\nGrowers\, producers\, locals and their visitors enjoy some hard-earned downtime after the long months of cultivating\, growing\, picking and packing\, before winter sets in on the Snowy Valleys.\n\nThis is one festival not to be missed.  With a stage hosting a range of local talent and market stalls offering boutique ciders\, gourmet food\, locally grown produce\, and tempting homemade treats.\n\nThe atmosphere sizzles with buskers and street theatre including a troupe of home-grown Apple Tarts who lead the dance.\n\nAgainst a backdrop of trees in glorious autumn colours\, the aroma of food from around the globe and of course\, the sound of fresh cider being poured in clear mountain air stirs the senses.\n\nEntry Cost\nAdult $20  - Early Bird Tickets are AUD20 for adults and available until 11:55pm Saturday 30 April. After this time\, General Admission tickets (AUD30) will be available.\nChild $0  - 17 years and under are free.
LOCATION:\, Pioneer Street\, Batlow\, NSW 2730\, NSW\, 2730
END:VEVENT
END:VCALENDAR
