BEGIN:VCALENDAR
VERSION:2.0
PRODID:-//My Community Diary//iCal Event//EN
CALSCALE:GREGORIAN
METHOD:PUBLISH
BEGIN:VEVENT
UID:60cacb4a-2106-4eb0-be19-b0c3da48d99f
DTSTAMP:20260424T161013Z
DTSTART:20240224T070000Z
DTEND:20240224T160000Z
SUMMARY:ARTHC Tractor Pull and Swap Meet
DESCRIPTION:The Tractor Pull and Swap Meet is set for the 24th Feb 2024 and is situated at the Gundagai Racecourse and Showgrounds in Gundagai.\n\nThere are Vintage Tractor Pulls in many classes operating all day.\n\nAlso on this day too there is Truck Show and Shine\,  Market Stalls\,  Swap Meet\,  Collectables\, Heavy Horses Display\,  Vintage Machinery Display\, And Much More.\n\nAll Machinery\, Car and Truck clubs are welcome to display too. (Free Entry for Displayers)\n\nThere is Powered camping available (small cost for powered Sites).\nUn-powered camping is free. (Friday to Sunday Only)\n\nSwap Meet sites must be pre-book to confirm your site by the 20th Feb (Call Phone Number).\n\nMore information and contacts are available on the website.\n\nEntry Cost\nAdult $10  - Children under 16 Free with paying parents.
LOCATION:\, Oibell Drive\, Gundagai\, NSW 2722\, NSW\, 2722
END:VEVENT
END:VCALENDAR
