BEGIN:VCALENDAR
VERSION:2.0
PRODID:-//My Community Diary//iCal Event//EN
CALSCALE:GREGORIAN
METHOD:PUBLISH
BEGIN:VEVENT
UID:72ffa1bd-1a3b-4492-91e4-f9c53115e690
DTSTAMP:20260422T031933Z
DTSTART;TZID=E. Australia Standard Time:20240712T120000
DTEND;TZID=E. Australia Standard Time:20240712T140000
SUMMARY:Lunch Friday 1200 
DESCRIPTION:ESL multicultural lunch held on the 2nd Friday of the month in various locations\, restaurants\, picnic in park etc.&nbsp\; All welcome.&nbsp\; Location is posted on Facebook - Good English at Goodlife.&nbsp\;\n
LOCATION:GOODLIFE COMMUNITY BAPTIST CHURCH - Buderim\, 100 Buderim Pines Drive\, Buderim QLD 4556\, QLD\, 4556
RRULE:FREQ=MONTHLY;INTERVAL=1;BYDAY=3MO
END:VEVENT
END:VCALENDAR
