BEGIN:VCALENDAR
VERSION:2.0
PRODID:-//My Community Diary//iCal Event//EN
CALSCALE:GREGORIAN
METHOD:PUBLISH
BEGIN:VEVENT
UID:cb97ed22-0a2b-4cbe-b3d5-f7a9a4cb9623
DTSTAMP:20260424T160623Z
DTSTART:20201203T080000Z
DTEND:20201203T170000Z
SUMMARY:Physician - Ophthalmology - Ayr
DESCRIPTION:Dr Todd Goodwin T/As NQ Eye Specialists at Helene Holmes Optique Eyes - Ayr. Please confirm precise times with the service provider. Please contact 1300 856 074 for more information about this visiting service.
LOCATION:\, 150 Queen Street\, Ayr\, QLD\, 4807\, QLD\, 4807
END:VEVENT
END:VCALENDAR
