BEGIN:VCALENDAR
VERSION:2.0
PRODID:-//My Community Diary//iCal Event//EN
CALSCALE:GREGORIAN
METHOD:PUBLISH
BEGIN:VEVENT
UID:63e19f4a-b3ed-4cf0-8a0d-c3bce730af50
DTSTAMP:20260424T100609Z
DTSTART;TZID=E. Australia Standard Time:20240708T153000
DTEND;TZID=E. Australia Standard Time:20240708T173000
SUMMARY:Monday Pickleball
DESCRIPTION:Pickleball is run each Monday from 3.30pm.\n\nAll ages and abilities are welcome.\n\nVenue is: Clifton Showgrounds stadium/pavilion.\n\nCost is: $5.00.\n\nCoordinator is: Pru Barkla.\n
LOCATION:Clifton Showgrounds Stadium/Pavilion\, 12 Morton Street\, Clifton QLD\, Australia\, QLD\, 4361
RRULE:FREQ=WEEKLY;INTERVAL=1;BYDAY=MO
END:VEVENT
END:VCALENDAR
