BEGIN:VCALENDAR
VERSION:2.0
PRODID:-//My Community Diary//iCal Event//EN
CALSCALE:GREGORIAN
METHOD:PUBLISH
BEGIN:VEVENT
UID:3f8c6343-6647-40ea-b620-81ac5b4fdfd4
DTSTAMP:20260421T205417Z
DTSTART;TZID=AUS Eastern Standard Time:20180927T190000
DTEND;TZID=AUS Eastern Standard Time:20180927T203000
SUMMARY:Men’s Autism Support Group
DESCRIPTION:This group is for men on the autism spectrum and fathers of children on the autism spectrum. Meet and discuss issues with other men on the autism spectrum while offering each other support.\n\nA meeting will be held every fourth Thursday of each month from 7:00pm – 8:30pm at Marymead.\n\n&nbsp\;\n\nMarymead Autism Centre celebrates diversity\, promotes awareness and inclusion\, and supports people on the Autism spectrum and their families.\n\nFor more information visit the Marymead Autism Centre website (www.marymeadautismcentre.org.au) or contact the Autism Centre on 1800 427 920 or email autism@marymead.org.au.\n
LOCATION:\, Rheinberger Centre\, Corner Weston and Loch Streets\, Yarralumla ACT 2600\, ACT
RRULE:FREQ=MONTHLY;INTERVAL=1;BYDAY=3MO
END:VEVENT
END:VCALENDAR
