BEGIN:VCALENDAR
VERSION:2.0
PRODID:-//My Community Diary//iCal Event//EN
CALSCALE:GREGORIAN
METHOD:PUBLISH
BEGIN:VEVENT
UID:5dde9c15-fb01-4fb6-982c-7e6bd2c43e4b
DTSTAMP:20260424T161013Z
DTSTART:20240126T090000Z
DTEND:20240126T220000Z
SUMMARY:Australia Day Celebrations Gunnedah
DESCRIPTION:Australia Day is the nation's day to celebrate what's great about living in Australia and being Australian.\n\nThe Gunnedah Shire celebrates the national day with a variety of free community activities for all residents and visitors to share.  \n\nCelebrations begin in the lead up to Australia Day with the Australia Day Trivia Night held at the Gunnedah Golf Club\, then its the  Australia Day Awards Dinner held the night before in the Town Hall.   This enables all the community to have an opportunity to attend the many planned activities on the program.  \n\nWeather permitting\, the day starts early with triathlon events\, combined church service\, free family breakfast sausage sizzle\, raft and craft race\, people and pets parade\, cake bake off\, chess Challenge\, dash for cash\, athletic events and free entry to the Gunnedah memorial Pool.   \n\nGunnedah's Australia Day program varies annually\, with the program released early January each year.  Check out the Gunnedah Shire Council website for all the detail.
LOCATION:\, Donnelly Fields  Maitland Street\, Gunnedah\, NSW 2380\, NSW\, 2380
END:VEVENT
END:VCALENDAR
