BEGIN:VCALENDAR
VERSION:2.0
PRODID:-//My Community Diary//iCal Event//EN
CALSCALE:GREGORIAN
METHOD:PUBLISH
BEGIN:VEVENT
UID:7ab82fda-e21b-4b74-88e7-244cba80c3eb
DTSTAMP:20260424T154910Z
DTSTART;TZID=E. Australia Standard Time:20180905T130000
DTEND;TZID=E. Australia Standard Time:20180905T143000
SUMMARY:Free line dancing
DESCRIPTION:Free class for those who have never danced before in camiera.old long rd at 1pm on Wednesday s call for info&nbsp\;\n
LOCATION:Lakeside Bootscooters\, 60 College Avenue\, Forest Lake QLD 4078\, QLD\, 4078
RRULE:FREQ=WEEKLY;INTERVAL=1;BYDAY=WE
END:VEVENT
END:VCALENDAR
