BEGIN:VCALENDAR
VERSION:2.0
PRODID:-//My Community Diary//iCal Event//EN
CALSCALE:GREGORIAN
METHOD:PUBLISH
BEGIN:VEVENT
UID:fa94857b-a006-4ca0-9f93-59d4c2316bca
DTSTAMP:20260424T164434Z
DTSTART:20230129T090000Z
DTEND:20230129T130000Z
SUMMARY:Armidale Markets in the Mall
DESCRIPTION:Armidale Markets in the Mall are held on the last Sunday of each month with more than 50 different stalls making a regular appearance. \n\nA variety of stalls offering a huge range of quality handmade and handcrafted items\, cupcakes\, candles\, bath and body products\, skincare and makeup\, handmade clothing\, bags\, shoes\, linen\, pottery\, woodwork\, plants\, art\, homewares\, toys\, puppets\, stamping and scrap booking plus so much more.\n\nThe markets are held in Beardy Street\, Armidale and are run by the Armidale PCYC.
LOCATION:\, Beardy Street Mall Beardy Street\, Armidale\, NSW 2350\, NSW\, 2350
RRULE:FREQ=MONTHLY;INTERVAL=1;BYDAY=3MO;UNTIL=20240129T000000Z
END:VEVENT
END:VCALENDAR
