BEGIN:VCALENDAR
VERSION:2.0
PRODID:-//My Community Diary//iCal Event//EN
CALSCALE:GREGORIAN
METHOD:PUBLISH
BEGIN:VEVENT
UID:303081a9-cc75-4902-9e95-f7c2b34f9e55
DTSTAMP:20260424T164408Z
DTSTART:20240425T000000Z
DTEND:20240425T235959Z
SUMMARY:ANZAC Day March
DESCRIPTION:Sydney's ANZAC Day March gives participating veterans and the general public an opportunity to honour those who served in the defence of Australia or its interests\, especially remembering those who paid the supreme sacrifice or otherwise suffered as a result of their service. \n\nThe Order of March will be WWII veterans followed by Navy/Army/Air Force (in conflict order)\, civilians in support of Australian Troops\, descendants of Australian veterans\, Commonwealth and allies.\n\nThe ANZAC Day March begins at 9am at the intersection of Martin Place and Elizabeth Street. It travels down Elizabeth Street and finishes at the end of Hyde Park at Liverpool Street.\n\nAt the conclusion of the parade\, at approximately 12.30pm\, a commemoration service is held next to The Pool of Remembrance at the ANZAC War Memorial in Hyde Park South.
LOCATION:\, Martin Place\, Sydney\, NSW 2000\, NSW\, 2000
END:VEVENT
END:VCALENDAR
