BEGIN:VCALENDAR
VERSION:2.0
PRODID:-//My Community Diary//iCal Event//EN
CALSCALE:GREGORIAN
METHOD:PUBLISH
BEGIN:VEVENT
UID:e8277561-de0d-432c-8fec-811f4d9542e6
DTSTAMP:20260424T164548Z
DTSTART:20240425T000000Z
DTEND:20240425T235959Z
SUMMARY:ANZAC Day
DESCRIPTION:ANZAC Day is a national day of memorial in Australia\, commemorating those who lost their lives in the First World War\, and there are few better places to remember these brave soldiers than New South Wales (NSW).\n \nSeveral ANZAC Day Dawn Services will be held on 25th April and if you choose to attend the ANZAC Day Dawn Service at The Cenotaph\, Martin Place\, you may wish to view the traditional ANZAC Day Parade which will commence at 9am in the Sydney CBD.\n\nTo conclude the ANZAC Day Parade\, at approximately 12:30pm\, a Commemoration Service will be held at the War Memorial in Hyde Park (South). All are welcome to attend the ceremony.
LOCATION:\, Sydney\, Sydney\, NSW 2000\, NSW\, 2000
END:VEVENT
END:VCALENDAR
