BEGIN:VCALENDAR
VERSION:2.0
PRODID:-//My Community Diary//iCal Event//EN
CALSCALE:GREGORIAN
METHOD:PUBLISH
BEGIN:VEVENT
UID:e66c9e84-56e6-4db1-a2c5-344a6287644b
DTSTAMP:20260424T164409Z
DTSTART:20240330T100000Z
DTEND:20240330T150000Z
SUMMARY:Adaminaby Easter Fair
DESCRIPTION:Head along to the Adaminaby Easter Fair for a great day out in the Snowy Mountains featuring numerous fun activities throughout the day such as a (plastic!) trout tossing competition\, a dog high jump\, children's activities\, wood auction\, Easter Bunny visit and boutique market stalls\, along with food and coffee vendors. Food and market stalls plus entertainment for the whole family to enjoy.\n\nThe highlight event of the day is the ‘Wacky Quacky Duck Race’ at approximately 2.30pm\, when more than 1\,300 plastic ducks (purchased by members of the public for AUD2 each) are raced through the town’s stormwater channel\, with AUD1\,000 in prize money up for grabs.\n\n Check online for more details via the Facebook page.
LOCATION:\, Denison Street\, Adaminaby\, NSW 2629\, NSW\, 2629
END:VEVENT
END:VCALENDAR
