BEGIN:VCALENDAR
VERSION:2.0
PRODID:-//My Community Diary//iCal Event//EN
CALSCALE:GREGORIAN
METHOD:PUBLISH
BEGIN:VEVENT
UID:e9fb4a94-6825-4b26-8ff2-26affb7f87d8
DTSTAMP:20260424T111213Z
DTSTART;TZID=E. Australia Standard Time:20240604T183000
DTEND;TZID=E. Australia Standard Time:20240604T203000
SUMMARY:SATB Choir Rehearsal
DESCRIPTION:Rehearsals are held weekly for 2 hours. No experience is required. A&nbsp\;basic ability to read music is helpful but not essential.&nbsp\;\n
LOCATION:Granite Belt Choir Assn\, 20 Connor Street\, Stanthorpe QLD 4380\, QLD\, 4380
RRULE:FREQ=WEEKLY;INTERVAL=1;BYDAY=WE
END:VEVENT
END:VCALENDAR
