BEGIN:VCALENDAR
VERSION:2.0
PRODID:-//My Community Diary//iCal Event//EN
CALSCALE:GREGORIAN
METHOD:PUBLISH
BEGIN:VEVENT
UID:56ab700b-678d-4523-8630-dcf88856fd2a
DTSTAMP:20260421T225609Z
DTSTART;VALUE=DATE:20260503
DTEND;VALUE=DATE:20260504
SUMMARY:Youth Surfing National Battle
DESCRIPTION:The Youth Surfing National Battle is a four day Junior Surfing event for the age divisions U12s \, U14s\, U16s and U18s in both Girls and Boys. \n\nThis is a 6500 star-rated event on the surfing calendar. \n\nWith a unique team challenge event that brings team comrades together for team building and working together in a team environment.
LOCATION:\, Mawson Close\, Caves Beach\, NSW 2281\, NSW\, 2281
RRULE:FREQ=DAILY;INTERVAL=1;UNTIL=20260505T000000Z
END:VEVENT
END:VCALENDAR
