BEGIN:VCALENDAR
VERSION:2.0
PRODID:-//My Community Diary//iCal Event//EN
CALSCALE:GREGORIAN
METHOD:PUBLISH
BEGIN:VEVENT
UID:652b105e-fe32-4223-9c48-d9fa83d5d973
DTSTAMP:20260424T160152Z
DTSTART;TZID=E. Australia Standard Time:20180808T093000
DTEND;TZID=E. Australia Standard Time:20180808T103000
SUMMARY:BE Inspired Gathering
DESCRIPTION:Held on the 2nd Wednesday of each month at the Family Place\, 35a North Rd\, Woodridge. Bring your kids for a morning of education and fun for your little ones. Our guest presenters will be focusing on issues relating to parenting and general health and wellbeing of women. Please RSVP by calling 3801 8368.\n\nThe topic for August is Gut Health\, presented by Andrea Richardson\n
LOCATION:The Family Place \, 35A North Road\, Woodridge QLD 4114\, QLD\, 4114
RRULE:FREQ=MONTHLY;INTERVAL=1;BYDAY=3MO
END:VEVENT
END:VCALENDAR
