BEGIN:VCALENDAR
VERSION:2.0
PRODID:-//My Community Diary//iCal Event//EN
CALSCALE:GREGORIAN
METHOD:PUBLISH
BEGIN:VEVENT
UID:31fd4840-79fa-4d3b-87b7-cd63a504d608
DTSTAMP:20260424T160644Z
DTSTART:20210104T080000Z
DTEND:20210104T170000Z
SUMMARY:Podiatry - Gladstone
DESCRIPTION:Evolution Podiatry at Nhulundu Health Service – Gladstone. Please confirm precise times with the service provider.
LOCATION:\, Corner of Hixon and Manning Street\, Gladstone\, QLD\, 4680\, QLD\, 4680
END:VEVENT
END:VCALENDAR
