BEGIN:VCALENDAR
VERSION:2.0
PRODID:-//My Community Diary//iCal Event//EN
CALSCALE:GREGORIAN
METHOD:PUBLISH
BEGIN:VEVENT
UID:ad0e200b-7d3e-4a84-a55f-34c079043dbc
DTSTAMP:20260424T155948Z
DTSTART;TZID=E. Australia Standard Time:20210422T180000
DTEND;TZID=E. Australia Standard Time:20210422T200000
SUMMARY:Dinner Station
DESCRIPTION:Free Community Dinner in the Marketplace Staff Carpark next to Beenleigh Train Station.\n\n&nbsp\;\n\n&nbsp\;\n
LOCATION:Nightlight Dinner Station\, Beenleigh Marketplace\, George Street\, Beenleigh QLD 4207\, Australia\, QLD\, 4207
RRULE:FREQ=WEEKLY;INTERVAL=1;BYDAY=TH
END:VEVENT
END:VCALENDAR
