BEGIN:VCALENDAR
VERSION:2.0
PRODID:-//My Community Diary//iCal Event//EN
CALSCALE:GREGORIAN
METHOD:PUBLISH
BEGIN:VEVENT
UID:7bb4b0ce-44f6-47d3-b600-0d206a49cefd
DTSTAMP:20260424T164410Z
DTSTART:20190610T000000Z
DTEND:20190610T235959Z
SUMMARY:Rush Hour - BootCamp Parramatta
DESCRIPTION:Rush Hour Australia offers the best variety in outdoor group fitness with their Boot Camp sessions in Parramatta. \n\nGet the best results in the fastest time utilising a range of scientifically based intense training styles and equipment\, including: boxing\, circuit training\, interval training\, free weights\, kettlebells\, medicine balls\, kegs\, tractor tyres and more. \n\nOutdoor Group Fitness in Parramatta was pioneered by Rush Hour Australia. Benefit from over 25 years industry experience through their head trainer\, Ray Younis and his experienced team.\n\nTheir BootCamp Parramatta comprises of one hour training sessions\, three days per week over six weeks. In addition\, you receive complimentary pre and post Health Assessments with a report to track your progress\, a complimentary two-hour nutrition seminar and any extra training sessions are offered complimentary as part of the Boot Camp program. \n\nRush Hour Australia BootCamp helps people lose fat\, get fit\, get fast and get strong. They cater for beginners and advanced clients.\n\n
LOCATION:\, Gladstone Street Corner Corry Close\, North Parramatta\, NSW 2151\, NSW\, 2151
RRULE:FREQ=DAILY;INTERVAL=1;UNTIL=20240701T000000Z
END:VEVENT
END:VCALENDAR
