BEGIN:VCALENDAR
VERSION:2.0
PRODID:-//My Community Diary//iCal Event//EN
CALSCALE:GREGORIAN
METHOD:PUBLISH
BEGIN:VEVENT
UID:6f377825-3124-42cc-bd5b-d2024bc732b9
DTSTAMP:20260424T154836Z
DTSTART;TZID=E. Australia Standard Time:20180629T100000
DTEND;TZID=E. Australia Standard Time:20180629T110000
SUMMARY:Free Friday Guided Walks
DESCRIPTION:Discover the Botanic Gardens with your Guide on our weekly guided walks. Walks start from 10am at Gardens Administration. Bookings are recommended.\n\nFor more details or to make a booking\, please contact Gardens Administration on phone 4952 7300 or email us at botanic@mackay.qld.gov.au\n
LOCATION:Mackay Regional Botanic Gardens\, 9 Lagoon Street\, West Mackay QLD 4740\, QLD\, 4740
RRULE:FREQ=WEEKLY;INTERVAL=1;BYDAY=FR
END:VEVENT
END:VCALENDAR
