BEGIN:VCALENDAR
VERSION:2.0
PRODID:-//My Community Diary//iCal Event//EN
CALSCALE:GREGORIAN
METHOD:PUBLISH
BEGIN:VEVENT
UID:26d07348-883d-4e16-92c8-eddb4e41a3d0
DTSTAMP:20260422T000616Z
DTSTART;TZID=AUS Eastern Standard Time:20180630T110000
DTEND;TZID=AUS Eastern Standard Time:20180630T123000
SUMMARY:Free English Classes 
DESCRIPTION:ENGLISH AS A SECOND LANGUAGE (ESL)\n\nFree English Classes for people from overseas and Australia.\n\nEvery Saturday at 11am during School Term only. At The Church of the Good Shepherd\, Gillies Street\, Curtin.\n\n&nbsp\;\n
LOCATION:Church of the Good Shepherd\, Gillies Street\, Curtin\, ACT
RRULE:FREQ=WEEKLY;INTERVAL=1;BYDAY=SA
END:VEVENT
END:VCALENDAR
