BEGIN:VCALENDAR
VERSION:2.0
PRODID:-//My Community Diary//iCal Event//EN
CALSCALE:GREGORIAN
METHOD:PUBLISH
BEGIN:VEVENT
UID:ee074c45-8d68-4efe-ae42-3707e8f24606
DTSTAMP:20260424T160628Z
DTSTART;TZID=E. Australia Standard Time:20180514T090000
DTEND;TZID=E. Australia Standard Time:20180514T110000
SUMMARY:R.I.S.E. Session
DESCRIPTION:A Welcoming space providing Connection with&nbsp\;people in the Community&nbsp\;and offering:\n\nReferral\n\nInformation\n\nSupport\n\nEngagement\n
LOCATION:West End Community House (Community Plus)\, 4 Norfolk Road\, South Brisbane QLD 4101\, QLD\, 4101
RRULE:FREQ=WEEKLY;INTERVAL=1;BYDAY=MO,TU,WE,TH;UNTIL=20231222T000000Z
END:VEVENT
END:VCALENDAR
