BEGIN:VCALENDAR
VERSION:2.0
PRODID:-//My Community Diary//iCal Event//EN
CALSCALE:GREGORIAN
METHOD:PUBLISH
BEGIN:VEVENT
UID:7305b8c8-39bd-489c-a160-3cd66c9bd576
DTSTAMP:20260424T160648Z
DTSTART;TZID=E. Australia Standard Time:20180518T090000
DTEND;TZID=E. Australia Standard Time:20180518T110000
SUMMARY:Wesley Mission Queensland: Brisbane Relief Hub
DESCRIPTION:Market Day\n
LOCATION:\, 316 Saint Pauls Terrace\, Fortitude Valley QLD 4006\, QLD\, 4006
RRULE:FREQ=WEEKLY;INTERVAL=1;BYDAY=FR
END:VEVENT
END:VCALENDAR
