BEGIN:VCALENDAR
VERSION:2.0
PRODID:-//My Community Diary//iCal Event//EN
CALSCALE:GREGORIAN
METHOD:PUBLISH
BEGIN:VEVENT
UID:28f6f7af-f342-4c0d-9ccb-105eeddd81f8
DTSTAMP:20260424T161007Z
DTSTART;TZID=E. Australia Standard Time:20180516T190000
DTEND;TZID=E. Australia Standard Time:20180516T210000
SUMMARY:Wesley Mission Queensland: Brisbane Relief Hub
DESCRIPTION:3 course meal\n
LOCATION:\, 316 Saint Pauls Terrace\, Fortitude Valley QLD 4006\, QLD\, 4006
RRULE:FREQ=WEEKLY;INTERVAL=1;BYDAY=WE;UNTIL=20230928T000000Z
END:VEVENT
END:VCALENDAR
