BEGIN:VCALENDAR
VERSION:2.0
PRODID:-//My Community Diary//iCal Event//EN
CALSCALE:GREGORIAN
METHOD:PUBLISH
BEGIN:VEVENT
UID:0a04482a-6cb8-48ad-aef2-7e3a2436932e
DTSTAMP:20260424T160649Z
DTSTART;TZID=E. Australia Standard Time:20180516T093000
DTEND;TZID=E. Australia Standard Time:20180516T113000
SUMMARY:Wesley Mission Queensland: Brisbane Relief Hub
DESCRIPTION:CRAFT as Therapy.\n
LOCATION:\, 316 Saint Pauls Terrace\, Fortitude Valley QLD 4006\, QLD\, 4006
RRULE:FREQ=WEEKLY;INTERVAL=1;BYDAY=WE
END:VEVENT
END:VCALENDAR
