BEGIN:VCALENDAR
VERSION:2.0
PRODID:-//My Community Diary//iCal Event//EN
CALSCALE:GREGORIAN
METHOD:PUBLISH
BEGIN:VEVENT
UID:ded78070-0d80-4661-a86e-8386296aeaf8
DTSTAMP:20260424T160519Z
DTSTART:20180514T093000Z
DTEND:20180514T113000Z
SUMMARY:Wesley Mission Queensland: Brisbane Relief Hub
DESCRIPTION:Meditation Session
LOCATION:\, 316 Saint Pauls Terrace\, Fortitude Valley QLD 4006\, QLD\, 4006
RRULE:FREQ=WEEKLY;INTERVAL=1;BYDAY=MO
END:VEVENT
END:VCALENDAR
