BEGIN:VCALENDAR
VERSION:2.0
PRODID:-//My Community Diary//iCal Event//EN
CALSCALE:GREGORIAN
METHOD:PUBLISH
BEGIN:VEVENT
UID:aa3370c7-9fc5-4958-adb4-5cf57ae7a1ec
DTSTAMP:20260424T155959Z
DTSTART;TZID=E. Australia Standard Time:20240917T180000
DTEND;TZID=E. Australia Standard Time:20240917T190000
SUMMARY:Walk With Us
DESCRIPTION:Dinner\n
LOCATION:Uniting Church - Burleigh Heads\, 2 Burleigh St\, BURLEIGH HEADS QLD 4220\, QLD\, 4220
RRULE:FREQ=WEEKLY;INTERVAL=1;BYDAY=TU
END:VEVENT
END:VCALENDAR
