BEGIN:VCALENDAR
VERSION:2.0
PRODID:-//My Community Diary//iCal Event//EN
CALSCALE:GREGORIAN
METHOD:PUBLISH
BEGIN:VEVENT
UID:3d94ab22-47a9-4ede-a57c-a5cbcc3ab8e4
DTSTAMP:20260424T154911Z
DTSTART:20180520T190000Z
DTEND:20180520T210000Z
SUMMARY:Vital Connection
DESCRIPTION:Vegetarian\n
LOCATION:\, Emma Miller Place\, Little Roma Street\, Brisbane\,QLD 4000\, QLD
RRULE:FREQ=WEEKLY;INTERVAL=1;BYDAY=SU
END:VEVENT
END:VCALENDAR
