BEGIN:VCALENDAR
VERSION:2.0
PRODID:-//My Community Diary//iCal Event//EN
CALSCALE:GREGORIAN
METHOD:PUBLISH
BEGIN:VEVENT
UID:f7d330b7-7f10-4b94-a5dd-5aff9ae474d8
DTSTAMP:20260424T154911Z
DTSTART:20180519T194500Z
DTEND:20180519T214500Z
SUMMARY:Vital Connection
DESCRIPTION:Vegetarian\n
LOCATION:\, Emma Miller Place\, Little Roma Street\, Brisbane\,QLD 4000\, QLD
RRULE:FREQ=WEEKLY;INTERVAL=1;BYDAY=SA
END:VEVENT
END:VCALENDAR
