BEGIN:VCALENDAR
VERSION:2.0
PRODID:-//My Community Diary//iCal Event//EN
CALSCALE:GREGORIAN
METHOD:PUBLISH
BEGIN:VEVENT
UID:9d2d8f43-fdf8-4462-baaa-c6f1750cf367
DTSTAMP:20260424T155126Z
DTSTART:20180518T173000Z
DTEND:20180518T193000Z
SUMMARY:Valley Outreach
DESCRIPTION:Drinks and snacks + BBQ\n
LOCATION:\, Opposite Urban Hotel\, Wickham Terrace Brisbane\,QLD 4000\, QLD
RRULE:FREQ=WEEKLY;INTERVAL=1;BYDAY=FR;UNTIL=20231223T000000Z
END:VEVENT
END:VCALENDAR
