BEGIN:VCALENDAR
VERSION:2.0
PRODID:-//My Community Diary//iCal Event//EN
CALSCALE:GREGORIAN
METHOD:PUBLISH
BEGIN:VEVENT
UID:b3848266-1caa-4306-a72a-352f35929073
DTSTAMP:20260424T154951Z
DTSTART;TZID=E. Australia Standard Time:20180514T140000
DTEND;TZID=E. Australia Standard Time:20180514T180000
SUMMARY:Valley Hearts
DESCRIPTION:Take away meal\, Fruit &amp\; Veg\, hot/cold drinks\, hygiene products\, biscuits\n
LOCATION:\, Jeays Street Park and Community Garden\, Jeays Street\, Bowen Hills QLD\, Australia\, QLD\, 4006
RRULE:FREQ=WEEKLY;INTERVAL=1;BYDAY=MO;UNTIL=20231219T000000Z
END:VEVENT
END:VCALENDAR
