BEGIN:VCALENDAR
VERSION:2.0
PRODID:-//My Community Diary//iCal Event//EN
CALSCALE:GREGORIAN
METHOD:PUBLISH
BEGIN:VEVENT
UID:3d9fd832-206a-47ab-94f8-4cfebf8c4247
DTSTAMP:20260424T160626Z
DTSTART;TZID=E. Australia Standard Time:20200807T110000
DTEND;TZID=E. Australia Standard Time:20200807T140000
SUMMARY:Trinity Centre Welfare Pantry
DESCRIPTION:There is a selection of non-perishable food available –&nbsp\;\npeople coming to the Pantry select the things they need from a 'shopping list' and take the food home. There is no cost.\n
LOCATION:\, 141 Brookes Street\, Fortitude Valley QLD 4006\, QLD\, 4006
RRULE:FREQ=WEEKLY;INTERVAL=1;BYDAY=WE,TH,FR;UNTIL=20221231T000000Z
END:VEVENT
END:VCALENDAR
