BEGIN:VCALENDAR
VERSION:2.0
PRODID:-//My Community Diary//iCal Event//EN
CALSCALE:GREGORIAN
METHOD:PUBLISH
BEGIN:VEVENT
UID:35b46967-6b60-4361-920f-e308d9eed524
DTSTAMP:20260424T154910Z
DTSTART;TZID=E. Australia Standard Time:20200805T120000
DTEND;TZID=E. Australia Standard Time:20200805T140000
SUMMARY:Trinity Centre Welfare Pantry
DESCRIPTION:Food Assistance\n
LOCATION:\, 141 Brookes Street\, Fortitude Valley QLD 4006\, QLD\, 4006
RRULE:FREQ=WEEKLY;INTERVAL=1;BYDAY=WE
END:VEVENT
END:VCALENDAR
