BEGIN:VCALENDAR
VERSION:2.0
PRODID:-//My Community Diary//iCal Event//EN
CALSCALE:GREGORIAN
METHOD:PUBLISH
BEGIN:VEVENT
UID:68d7aac1-8b53-4da3-ae47-29eb5addf516
DTSTAMP:20260424T155959Z
DTSTART:20180519T120000Z
DTEND:20180519T140000Z
SUMMARY:Theodore Street BBQ
DESCRIPTION:BBQ
LOCATION:\, 48 Theodore Street Unit 1\, Stafford QLD 4053\, QLD\, 4053
RRULE:FREQ=WEEKLY;INTERVAL=1;BYDAY=SA
END:VEVENT
END:VCALENDAR
