BEGIN:VCALENDAR
VERSION:2.0
PRODID:-//My Community Diary//iCal Event//EN
CALSCALE:GREGORIAN
METHOD:PUBLISH
BEGIN:VEVENT
UID:67bf4551-bc54-4fcf-91ef-886ec97e85ff
DTSTAMP:20260424T160624Z
DTSTART;TZID=E. Australia Standard Time:20180518T070000
DTEND;TZID=E. Australia Standard Time:20180518T080000
SUMMARY:The Breakfast Club Redcliffe
DESCRIPTION:Breakfast\n
LOCATION:The Breakfast Club - Redcliffe\, The Peninsula Support Hub\, 49 Portwood Street Redcliffe QLD 4020\, QLD\, 4020
RRULE:FREQ=WEEKLY;INTERVAL=1;BYDAY=FR
END:VEVENT
END:VCALENDAR
