BEGIN:VCALENDAR
VERSION:2.0
PRODID:-//My Community Diary//iCal Event//EN
CALSCALE:GREGORIAN
METHOD:PUBLISH
BEGIN:VEVENT
UID:efd34d48-ce29-4e5c-b46c-f9b75cea92c5
DTSTAMP:20260424T160000Z
DTSTART:20180519T183000Z
DTEND:20180519T203000Z
SUMMARY:Street Doctor
DESCRIPTION:Medical care\n
LOCATION:\, 967 Brunswick Street\, New Farm\,QLD 4005\, QLD
RRULE:FREQ=WEEKLY;INTERVAL=1;BYDAY=SU
END:VEVENT
END:VCALENDAR
