BEGIN:VCALENDAR
VERSION:2.0
PRODID:-//My Community Diary//iCal Event//EN
CALSCALE:GREGORIAN
METHOD:PUBLISH
BEGIN:VEVENT
UID:676d4cbf-1006-4188-a35d-2a661bbec04c
DTSTAMP:20260424T154702Z
DTSTART:20180517T183000Z
DTEND:20180517T203000Z
SUMMARY:Street Doctor
DESCRIPTION:Medical care\n
LOCATION:\, Shelter By Grace\, 157 Old Logan Road\, Waterford\,QLD 4133\, QLD
RRULE:FREQ=WEEKLY;INTERVAL=1;BYDAY=FR
END:VEVENT
END:VCALENDAR
