BEGIN:VCALENDAR
VERSION:2.0
PRODID:-//My Community Diary//iCal Event//EN
CALSCALE:GREGORIAN
METHOD:PUBLISH
BEGIN:VEVENT
UID:87eb0b25-f773-419c-8cf7-4a04762d18c1
DTSTAMP:20260424T160641Z
DTSTART:20180517T170000Z
DTEND:20180517T200000Z
SUMMARY:Street Doctor
DESCRIPTION:Medical care\, 5.00pm - 8.00pm
LOCATION:\, Queens Park\, Ipswich\,QLD 4305\, QLD
RRULE:FREQ=WEEKLY;INTERVAL=1;BYDAY=FR
END:VEVENT
END:VCALENDAR
