BEGIN:VCALENDAR
VERSION:2.0
PRODID:-//My Community Diary//iCal Event//EN
CALSCALE:GREGORIAN
METHOD:PUBLISH
BEGIN:VEVENT
UID:4952d519-f3f9-4beb-8de2-4ed49be78164
DTSTAMP:20260424T160213Z
DTSTART:20180516T190000Z
DTEND:20180516T220000Z
SUMMARY:Street Doctor
DESCRIPTION:Medical care\, 7pm - 10pm\n
LOCATION:\, Under the Bridge\, Turbot Street\, Brisbane\,QLD 4000\, QLD
RRULE:FREQ=WEEKLY;INTERVAL=1;BYDAY=WE
END:VEVENT
END:VCALENDAR
