BEGIN:VCALENDAR
VERSION:2.0
PRODID:-//My Community Diary//iCal Event//EN
CALSCALE:GREGORIAN
METHOD:PUBLISH
BEGIN:VEVENT
UID:ab60be11-cc71-4117-b383-5bb7337fbc26
DTSTAMP:20260424T154957Z
DTSTART:20180516T180000Z
DTEND:20180516T200000Z
SUMMARY:Street Doctor
DESCRIPTION:Medical care\n
LOCATION:\, Fishers of Men\, 753 Underwood Road\, Rochedale South\,QLD 4123\, QLD
RRULE:FREQ=WEEKLY;INTERVAL=1;BYDAY=WE
END:VEVENT
END:VCALENDAR
