BEGIN:VCALENDAR
VERSION:2.0
PRODID:-//My Community Diary//iCal Event//EN
CALSCALE:GREGORIAN
METHOD:PUBLISH
BEGIN:VEVENT
UID:5a7f3ac0-d830-4af3-906f-e1b308b1ef36
DTSTAMP:20260424T155901Z
DTSTART:20180515T180000Z
DTEND:20180515T200000Z
SUMMARY:Street Doctor
DESCRIPTION:Medical Care\n
LOCATION:\, Emma Miller Place\, Little Roma Street\, Brisbane\,QLD 4000\, QLD
RRULE:FREQ=WEEKLY;INTERVAL=1;BYDAY=TU
END:VEVENT
END:VCALENDAR
