BEGIN:VCALENDAR
VERSION:2.0
PRODID:-//My Community Diary//iCal Event//EN
CALSCALE:GREGORIAN
METHOD:PUBLISH
BEGIN:VEVENT
UID:eea4cf35-3ce4-4cc9-a2b9-f92a58329124
DTSTAMP:20260424T154943Z
DTSTART:20180514T190000Z
DTEND:20180514T210000Z
SUMMARY:Street Doctor
DESCRIPTION:Medical Care
LOCATION:\, 254 Jacaranda Avenue\, Kingston\,QLD 4114\, QLD
RRULE:FREQ=WEEKLY;INTERVAL=1;BYDAY=MO
END:VEVENT
END:VCALENDAR
