BEGIN:VCALENDAR
VERSION:2.0
PRODID:-//My Community Diary//iCal Event//EN
CALSCALE:GREGORIAN
METHOD:PUBLISH
BEGIN:VEVENT
UID:0d7b8b77-ecd7-4271-8d9f-3563a43d803b
DTSTAMP:20260424T160623Z
DTSTART:20180515T080000Z
DTEND:20180515T100000Z
SUMMARY:St Pauls Presbyterian Church
DESCRIPTION:Morning Cuppa\, during School Terms
LOCATION:\, 43 St Pauls Terrace\, Spring Hill\,QLD 4000\, QLD
RRULE:FREQ=WEEKLY;INTERVAL=1;BYDAY=TU
END:VEVENT
END:VCALENDAR
