BEGIN:VCALENDAR
VERSION:2.0
PRODID:-//My Community Diary//iCal Event//EN
CALSCALE:GREGORIAN
METHOD:PUBLISH
BEGIN:VEVENT
UID:02a005bf-a3c9-455c-aae7-667718431bca
DTSTAMP:20260424T155902Z
DTSTART:20180517T170000Z
DTEND:20180517T180000Z
SUMMARY:Soul Soup Australia
DESCRIPTION:Soup Kitchen\n
LOCATION:\, Arthur Downes Park\, Labrador\,QLD 4214\, QLD
RRULE:FREQ=WEEKLY;INTERVAL=1;BYDAY=MO
END:VEVENT
END:VCALENDAR
