BEGIN:VCALENDAR
VERSION:2.0
PRODID:-//My Community Diary//iCal Event//EN
CALSCALE:GREGORIAN
METHOD:PUBLISH
BEGIN:VEVENT
UID:fa230c24-e0b3-40f2-bed4-0ccd4b85f149
DTSTAMP:20260424T155451Z
DTSTART;TZID=E. Australia Standard Time:20180515T110000
DTEND;TZID=E. Australia Standard Time:20180515T123000
SUMMARY:Set Free
DESCRIPTION:Meal\n
LOCATION:Set Free Care\, 21 Rawlins Street\, Southport QLD 4215\, QLD\, 4215
RRULE:FREQ=WEEKLY;INTERVAL=1;BYDAY=TU
END:VEVENT
END:VCALENDAR
