BEGIN:VCALENDAR
VERSION:2.0
PRODID:-//My Community Diary//iCal Event//EN
CALSCALE:GREGORIAN
METHOD:PUBLISH
BEGIN:VEVENT
UID:b06ed8bd-6de2-4b7e-ab61-3afde520b1bc
DTSTAMP:20260424T160519Z
DTSTART:20180515T120000Z
DTEND:20180515T140000Z
SUMMARY:Our Lady of the Rosary\, Lunch with Friends
DESCRIPTION:2 Course Lunch
LOCATION:\, St. Joseph's Goodwin Park\, Jarvis Lane\, Coolangatta\,QLD 4225\, QLD
RRULE:FREQ=WEEKLY;INTERVAL=1;BYDAY=TU
END:VEVENT
END:VCALENDAR
