BEGIN:VCALENDAR
VERSION:2.0
PRODID:-//My Community Diary//iCal Event//EN
CALSCALE:GREGORIAN
METHOD:PUBLISH
BEGIN:VEVENT
UID:dbca8b45-be58-4053-b309-eb8a64945551
DTSTAMP:20260424T160520Z
DTSTART:20220615T060000Z
DTEND:20220615T080000Z
SUMMARY:Nudgee College BBQ
DESCRIPTION:BBQ\n
LOCATION:\, Kemp Place\, Fortitude Valley\,QLD 4006\, QLD
RRULE:FREQ=WEEKLY;INTERVAL=1;BYDAY=TU
END:VEVENT
END:VCALENDAR
