BEGIN:VCALENDAR
VERSION:2.0
PRODID:-//My Community Diary//iCal Event//EN
CALSCALE:GREGORIAN
METHOD:PUBLISH
BEGIN:VEVENT
UID:f2143185-ab24-4e4d-bde6-4878c5d4b875
DTSTAMP:20260424T160509Z
DTSTART:20180517T180000Z
DTEND:20180517T200000Z
SUMMARY:Loaves & Fishes Street Meet
DESCRIPTION:Hot food &amp\; Drinks\n
LOCATION:\, Carpark\, Quarry Street\, Spring Hill\,QLD 4000\, QLD
RRULE:FREQ=WEEKLY;INTERVAL=1;BYDAY=TH
END:VEVENT
END:VCALENDAR
