BEGIN:VCALENDAR
VERSION:2.0
PRODID:-//My Community Diary//iCal Event//EN
CALSCALE:GREGORIAN
METHOD:PUBLISH
BEGIN:VEVENT
UID:9a6ca81b-02aa-47ac-a1c8-9044e5608a87
DTSTAMP:20260424T160634Z
DTSTART:20180514T180000Z
DTEND:20180514T200000Z
SUMMARY:Loaves & Fishes Street Meet
DESCRIPTION:Hot food &amp\; Drinks\n
LOCATION:\, Carpark\, Quarry Street\, Spring Hill\,QLD 4000\, QLD
RRULE:FREQ=WEEKLY;INTERVAL=1;BYDAY=MO
END:VEVENT
END:VCALENDAR
