BEGIN:VCALENDAR
VERSION:2.0
PRODID:-//My Community Diary//iCal Event//EN
CALSCALE:GREGORIAN
METHOD:PUBLISH
BEGIN:VEVENT
UID:e6020b29-6178-4802-9161-c93696ef010f
DTSTAMP:20260424T160642Z
DTSTART:20180518T103000Z
DTEND:20180518T123000Z
SUMMARY:Loaves & Fishes - Gold Coast
DESCRIPTION:Lunch\n
LOCATION:\, Nerang Community Hall\, 34 Price Street\, Nerang\,QLD 4211\, QLD
RRULE:FREQ=WEEKLY;INTERVAL=1;BYDAY=FR
END:VEVENT
END:VCALENDAR
